BEGIN:VCALENDAR
VERSION:2.0
PRODID:-//Bristol Parent Carers - ECPv6.15.20//NONSGML v1.0//EN
CALSCALE:GREGORIAN
METHOD:PUBLISH
X-WR-CALNAME:Bristol Parent Carers
X-ORIGINAL-URL:https://www.bristolparentcarers.org.uk
X-WR-CALDESC:Events for Bristol Parent Carers
REFRESH-INTERVAL;VALUE=DURATION:PT1H
X-Robots-Tag:noindex
X-PUBLISHED-TTL:PT1H
BEGIN:VTIMEZONE
TZID:Europe/London
BEGIN:DAYLIGHT
TZOFFSETFROM:+0000
TZOFFSETTO:+0100
TZNAME:BST
DTSTART:20250330T010000
END:DAYLIGHT
BEGIN:STANDARD
TZOFFSETFROM:+0100
TZOFFSETTO:+0000
TZNAME:GMT
DTSTART:20251026T010000
END:STANDARD
BEGIN:DAYLIGHT
TZOFFSETFROM:+0000
TZOFFSETTO:+0100
TZNAME:BST
DTSTART:20260329T010000
END:DAYLIGHT
BEGIN:STANDARD
TZOFFSETFROM:+0100
TZOFFSETTO:+0000
TZNAME:GMT
DTSTART:20261025T010000
END:STANDARD
BEGIN:DAYLIGHT
TZOFFSETFROM:+0000
TZOFFSETTO:+0100
TZNAME:BST
DTSTART:20270328T010000
END:DAYLIGHT
BEGIN:STANDARD
TZOFFSETFROM:+0100
TZOFFSETTO:+0000
TZNAME:GMT
DTSTART:20271031T010000
END:STANDARD
END:VTIMEZONE
BEGIN:VEVENT
DTSTART;TZID=Europe/London:20260421T090000
DTEND;TZID=Europe/London:20260421T103000
DTSTAMP:20260421T012939
CREATED:20260120T184324Z
LAST-MODIFIED:20260305T133201Z
UID:9146-1776762000-1776767400@www.bristolparentcarers.org.uk
SUMMARY:Brentry Primary School | SEND Coffee Morning | Anyone can attend
DESCRIPTION:Special Educational Needs & Disabilities Coffee Mornings for parents and carers of children with SEND\n\n\nBristol Parent Carer Forum hosts coffee mornings from schools for parent carers of children and young adults that have Special Educational Needs and Disabilities (SEND). \nThere is no need to book but if you can\, that is helpful. Please come along for a chat with our volunteers and other families who “get it”.  We are happy to talk through any problems or issues you are facing over a nice cup of tea (or coffee!) and you can find out more information on what support is available locally for your child or a child you care for. \nI﻿f you need additional support to access this coffee morning such as support with English or other adjustments\, please let us know. \nAn important role of the Parent Carer Forum is to hear about the experiences of parent carers in Bristol. We would like to hear from you about your experiences with SEND services so that we can be sure that your voice is heard and that we can shape the future of SEND services together.
URL:https://www.bristolparentcarers.org.uk/event/brentry-primary-school-send-coffee-morning-anyone-can-attend/
LOCATION:Brentry Primary School\, Brentry Lane\, Brentry\, England\, BS10 6RG\, United Kingdom
CATEGORIES:Parent to parent support sessions,Schools
ATTACH;FMTTYPE=image/jpeg:https://www.bristolparentcarers.org.uk/wp-content/uploads/2025/12/school.jpg
END:VEVENT
END:VCALENDAR